BEGIN:VCALENDAR
VERSION:2.0
PRODID:spatie/icalendar-generator
DESCRIPTION:Events from Храм Преподобного Серафима 
 Саровского
X-WR-CALDESC:Events from Храм Преподобного Серафима
  Саровского
REFRESH-INTERVAL;VALUE=DURATION:PT1440M
X-PUBLISHED-TTL:PT1440M
BEGIN:VTIMEZONE
TZID:Europe/Athens
BEGIN:STANDARD
DTSTART:20291028T040000Z
TZOFFSETFROM:+0300
TZOFFSETTO:+0200
END:STANDARD
BEGIN:DAYLIGHT
DTSTART:20300331T030000Z
TZOFFSETFROM:+0200
TZOFFSETTO:+0300
END:DAYLIGHT
BEGIN:STANDARD
DTSTART:20301027T040000Z
TZOFFSETFROM:+0300
TZOFFSETTO:+0200
END:STANDARD
END:VTIMEZONE
BEGIN:VTIMEZONE
TZID:UTC
BEGIN:STANDARD
DTSTART:20250723T212434Z
TZOFFSETFROM:+0000
TZOFFSETTO:+0000
END:STANDARD
END:VTIMEZONE
BEGIN:VEVENT
UID:8190-411
DTSTAMP:20260419T212434Z
SUMMARY:Утреня. Литургия
LOCATION:
ORGANIZER;CN=admin:MAILTO:leonefremidis@gmail.com
RRULE:FREQ=YEARLY;BYMONTH=06;BYDAY=03;COUNT=0
DTSTART;TZID=Europe/Athens:20300603T073000
DTEND;TZID=Europe/Athens:20300603T100000
X-ALT-DESC;FMTTYPE=TEXT/HTML:<p>Равноапп. Константина и
  Елены</p>\n
CATEGORIES:General
URL;VALUE=URI:https://seraphim.gr/mc-events/utrenya-liturgiya-42/?mc_id=819
 0
METHOD:PUBLISH
END:VEVENT
END:VCALENDAR